BEGIN:VCALENDAR
VERSION:2.0
PRODID:-//Fahrschule Fuhlsbüttel - ECPv6.15.14//NONSGML v1.0//EN
CALSCALE:GREGORIAN
METHOD:PUBLISH
X-ORIGINAL-URL:https://www.fahrschule-fuhlsbuettel.de
X-WR-CALDESC:Veranstaltungen für Fahrschule Fuhlsbüttel
REFRESH-INTERVAL;VALUE=DURATION:PT1H
X-Robots-Tag:noindex
X-PUBLISHED-TTL:PT1H
BEGIN:VTIMEZONE
TZID:Europe/Berlin
BEGIN:DAYLIGHT
TZOFFSETFROM:+0100
TZOFFSETTO:+0200
TZNAME:CEST
DTSTART:20250330T010000
END:DAYLIGHT
BEGIN:STANDARD
TZOFFSETFROM:+0200
TZOFFSETTO:+0100
TZNAME:CET
DTSTART:20251026T010000
END:STANDARD
BEGIN:DAYLIGHT
TZOFFSETFROM:+0100
TZOFFSETTO:+0200
TZNAME:CEST
DTSTART:20260329T010000
END:DAYLIGHT
BEGIN:STANDARD
TZOFFSETFROM:+0200
TZOFFSETTO:+0100
TZNAME:CET
DTSTART:20261025T010000
END:STANDARD
BEGIN:DAYLIGHT
TZOFFSETFROM:+0100
TZOFFSETTO:+0200
TZNAME:CEST
DTSTART:20270328T010000
END:DAYLIGHT
BEGIN:STANDARD
TZOFFSETFROM:+0200
TZOFFSETTO:+0100
TZNAME:CET
DTSTART:20271031T010000
END:STANDARD
END:VTIMEZONE
BEGIN:VEVENT
DTSTART;TZID=Europe/Berlin:20260414T090000
DTEND;TZID=Europe/Berlin:20260414T103000
DTSTAMP:20260424T114520
CREATED:20251002T131609Z
LAST-MODIFIED:20260330T105626Z
UID:10001465-1776157200-1776162600@www.fahrschule-fuhlsbuettel.de
SUMMARY:Thema 3 (Grundstoff)
DESCRIPTION:Verkehrszeichen und Verkehrseinrichtungen
URL:https://www.fahrschule-fuhlsbuettel.de/unterricht/modul-03/2026-04-14/
LOCATION:Standort Fuhlsbüttel\, Erdkampsweg 34\, Hamburg\, 22335\, Germany
CATEGORIES:Theorie - Grundstoff,Theorie – Standort Fuhlsbüttel
END:VEVENT
BEGIN:VEVENT
DTSTART;TZID=Europe/Berlin:20260414T183000
DTEND;TZID=Europe/Berlin:20260414T200000
DTSTAMP:20260424T114520
CREATED:20260121T124438Z
LAST-MODIFIED:20260330T123417Z
UID:10001489-1776191400-1776196800@www.fahrschule-fuhlsbuettel.de
SUMMARY:Thema 11 (Grundstoff)
DESCRIPTION:Verhalten in besonderen Situationen
URL:https://www.fahrschule-fuhlsbuettel.de/unterricht/modul-11/2026-04-14/
LOCATION:Standort Fuhlsbüttel\, Erdkampsweg 34\, Hamburg\, 22335\, Germany
CATEGORIES:Theorie - Grundstoff,Theorie – Standort Fuhlsbüttel
END:VEVENT
BEGIN:VEVENT
DTSTART;TZID=Europe/Berlin:20260414T183000
DTEND;TZID=Europe/Berlin:20260414T200000
DTSTAMP:20260424T114520
CREATED:20260217T125150Z
LAST-MODIFIED:20260217T125308Z
UID:10001400-1776191400-1776196800@www.fahrschule-fuhlsbuettel.de
SUMMARY:Thema C10 (Klassenspezifisch LKW)
DESCRIPTION:
URL:https://www.fahrschule-fuhlsbuettel.de/unterricht/thema-c10-klassenspezifisch-lkw/2026-04-14/
LOCATION:Standort Fuhlsbüttel\, Erdkampsweg 34\, Hamburg\, 22335\, Germany
CATEGORIES:Theorie - Klassenspezifisch LKW,Theorie – Standort Fuhlsbüttel
END:VEVENT
END:VCALENDAR